BEGIN:VCALENDAR
VERSION:2.0
PRODID:-//Tukios.com/
BEGIN:VEVENT
UID:35ea6102-f871-47da-86ef-10ec8a0fb4c3@www.bryantgrantfuneralhome.com
DTSTAMP:20260423T212842Z
DTSTART:20260430T180000Z
DTEND:20260430T190000Z
SUMMARY:Graveside Service
DESCRIPTION:
URL:https://www.bryantgrantfuneralhome.com/obituaries/dana-pierce
LOCATION:Chattanooga National Cemetery 1200 Bailey Avenue  Chattanooga TN 
	37404
GEO:35.0343128;-85.2890594
END:VEVENT
END:VCALENDAR