BEGIN:VCALENDAR
VERSION:2.0
PRODID:-//Tukios.com/
BEGIN:VEVENT
UID:f4801f31-b538-4a62-b94b-5078be7fe2dd@www.bryantgrantfuneralhome.com
DTSTAMP:20260422T002659Z
DTSTART:20260424T220000Z
DTEND:20260425T000000Z
SUMMARY:Visitation
DESCRIPTION:
URL:https://www.bryantgrantfuneralhome.com/obituaries/sherrill-janes
LOCATION: 105 W Main St  Franklin NC 28734
GEO:35.181738;-83.383154
END:VEVENT
END:VCALENDAR